BEGIN:VCALENDAR
VERSION:2.0
PRODID:-//Idaho Department of Labor - ECPv6.15.20//NONSGML v1.0//EN
CALSCALE:GREGORIAN
METHOD:PUBLISH
X-WR-CALNAME:Idaho Department of Labor
X-ORIGINAL-URL:https://www.labor.idaho.gov
X-WR-CALDESC:Events for Idaho Department of Labor
REFRESH-INTERVAL;VALUE=DURATION:PT1H
X-Robots-Tag:noindex
X-PUBLISHED-TTL:PT1H
BEGIN:VTIMEZONE
TZID:America/Boise
BEGIN:DAYLIGHT
TZOFFSETFROM:-0700
TZOFFSETTO:-0600
TZNAME:MDT
DTSTART:20250309T090000
END:DAYLIGHT
BEGIN:STANDARD
TZOFFSETFROM:-0600
TZOFFSETTO:-0700
TZNAME:MST
DTSTART:20251102T080000
END:STANDARD
BEGIN:DAYLIGHT
TZOFFSETFROM:-0700
TZOFFSETTO:-0600
TZNAME:MDT
DTSTART:20260308T090000
END:DAYLIGHT
BEGIN:STANDARD
TZOFFSETFROM:-0600
TZOFFSETTO:-0700
TZNAME:MST
DTSTART:20261101T080000
END:STANDARD
BEGIN:DAYLIGHT
TZOFFSETFROM:-0700
TZOFFSETTO:-0600
TZNAME:MDT
DTSTART:20270314T090000
END:DAYLIGHT
BEGIN:STANDARD
TZOFFSETFROM:-0600
TZOFFSETTO:-0700
TZNAME:MST
DTSTART:20271107T080000
END:STANDARD
END:VTIMEZONE
BEGIN:VEVENT
DTSTART;TZID=America/Boise:20260423T140000
DTEND;TZID=America/Boise:20260423T150000
DTSTAMP:20260422T115128
CREATED:20260225T171606Z
LAST-MODIFIED:20260304T221903Z
UID:24214-1776952800-1776956400@www.labor.idaho.gov
SUMMARY:Sharpen Your Interview Skills – Boise
DESCRIPTION:
URL:https://www.labor.idaho.gov/event/sharpen-your-interview-skills-boise-36/
LOCATION:Idaho Department of Labor – Boise office\, 317 W. Main St.\, Boise\, ID\, 83735
END:VEVENT
END:VCALENDAR